BEGIN:VCALENDAR
VERSION:2.0
PRODID:-//Squarespace Inc/Squarespace 6//v6//EN
BEGIN:VEVENT
UID:5ad6876d352f5320d2fb6aae@squarespace.com
DTSTAMP:20190207T041455Z
DTSTART:20190323T220000Z
DTEND:20190411T080000Z
SUMMARY:19 DAY NEW ZEALAND HIGHLIGHTS OCTOBER 2019
END:VEVENT
END:VCALENDAR
