BEGIN:VCALENDAR
VERSION:2.0
PRODID:-//Squarespace Inc/Squarespace 6//v6//EN
BEGIN:VEVENT
UID:5becc7f10ebbe8b58005c875@squarespace.com
DTSTAMP:20190207T041518Z
DTSTART:20190413T230000Z
DTEND:20190430T080000Z
SUMMARY:17 DAY NEW ZEALAND ULTIMATE EXPLORER 2019
END:VEVENT
END:VCALENDAR
