BEGIN:VCALENDAR
VERSION:2.0
PRODID:-//Squarespace Inc/Squarespace 6//v6//EN
BEGIN:VEVENT
UID:5ad698e22b6a284cf9f49278@squarespace.com
DTSTAMP:20180711T074202Z
DTSTART:20180822T013000Z
DTEND:20180827T023000Z
SUMMARY:STAY PUT IN PORT STEPHENS
END:VEVENT
END:VCALENDAR
