BEGIN:VCALENDAR
VERSION:2.0
PRODID:-//Squarespace Inc/Squarespace 6//v6//EN
BEGIN:VEVENT
UID:5ad67c2d352f53c892f2dfd3@squarespace.com
DTSTAMP:20191126T211820Z
DTSTART:20180702T230000Z
DTEND:20180709T000000Z
SUMMARY:NSW CORNER COUNTRY
END:VEVENT
END:VCALENDAR
