BEGIN:VCALENDAR
VERSION:2.0
PRODID:-//Squarespace Inc/Squarespace 6//v6//EN
BEGIN:VEVENT
UID:5ad6a41a1ae6cf08acb75032@squarespace.com
DTSTAMP:20180711T074040Z
DTSTART:20180714T020000Z
DTEND:20180715T030000Z
SUMMARY:THE BOOK OF MORMON
END:VEVENT
END:VCALENDAR
