BEGIN:VCALENDAR
VERSION:2.0
PRODID:-//Squarespace Inc/Squarespace 6//v6//EN
BEGIN:VEVENT
UID:5ad6a337352f5320d2003fd1@squarespace.com
DTSTAMP:20191128T000147Z
DTSTART:20180714T020000Z
DTEND:20180714T030000Z
SUMMARY:DISNEY ON ICE- 100 YEARS OF MAGIC 2018
END:VEVENT
END:VCALENDAR
