BEGIN:VCALENDAR
VERSION:2.0
PRODID:-//Squarespace Inc/Squarespace 6//v6//EN
BEGIN:VEVENT
UID:5ad67e1e758d46bb49ce76d1@squarespace.com
DTSTAMP:20180711T074032Z
DTSTART:20180710T233000Z
DTEND:20180722T003000Z
SUMMARY:SOUTH AUSTRALIA'S IRON TRIANGLE
END:VEVENT
END:VCALENDAR
