BEGIN:VCALENDAR
VERSION:2.0
PRODID:-//Squarespace Inc/Squarespace 6//v6//EN
BEGIN:VEVENT
UID:5ad6a77688251b1b91e1e692@squarespace.com
DTSTAMP:20180503T234701Z
DTSTART:20180701T023000Z
DTEND:20180702T033000Z
SUMMARY:PRISCILLA- QUEEN OF THE DESERT
END:VEVENT
END:VCALENDAR
