BEGIN:VCALENDAR
VERSION:2.0
PRODID:-//Squarespace Inc/Squarespace 6//v6//EN
BEGIN:VEVENT
UID:5ad689fa758d4622a61dbe23@squarespace.com
DTSTAMP:20181115T045417Z
DTSTART:20180505T000000Z
DTEND:20180510T010000Z
SUMMARY:STAY PUT IN ARMIDALE
END:VEVENT
END:VCALENDAR
