BEGIN:VCALENDAR
VERSION:2.0
PRODID:-//Squarespace Inc/Squarespace 6//v6//EN
BEGIN:VEVENT
UID:5ad697df758d4622a6201ce8@squarespace.com
DTSTAMP:20180711T074126Z
DTSTART:20180813T010000Z
DTEND:20180820T020000Z
SUMMARY:SPECTACULAR SOUTH COAST
END:VEVENT
END:VCALENDAR
