BEGIN:VCALENDAR
VERSION:2.0
PRODID:-//Squarespace Inc/Squarespace 6//v6//EN
BEGIN:VEVENT
UID:5d1c1953f1a7270001b406ba@squarespace.com
DTSTAMP:20190703T032329Z
DTSTART:20190712T210000Z
DTEND:20190714T070000Z
SUMMARY:2 Day Lake Eyre Flying Tour
END:VEVENT
END:VCALENDAR
