BEGIN:VCALENDAR
VERSION:2.0
PRODID:-//Squarespace Inc/Squarespace 6//v6//EN
BEGIN:VEVENT
UID:5d1c1e27151f470001e98434@squarespace.com
DTSTAMP:20190703T032635Z
DTSTART:20190802T210000Z
DTEND:20190804T073000Z
SUMMARY:2 Day Lake Eyre Flying Tour
END:VEVENT
END:VCALENDAR
