BEGIN:VCALENDAR
VERSION:2.0
PRODID:-//Squarespace Inc/Squarespace 6//v6//EN
BEGIN:VEVENT
UID:5d1c1d2bd619670001ef0e0d@squarespace.com
DTSTAMP:20190703T032606Z
DTSTART:20190726T210000Z
DTEND:20190728T073000Z
SUMMARY:2 Day Lake Eyre Flying Tour
END:VEVENT
END:VCALENDAR
