BEGIN:VCALENDAR
VERSION:2.0
PRODID:-//Squarespace Inc/Squarespace 6//v6//EN
BEGIN:VEVENT
UID:5d1c1c011e661a0001ca2410@squarespace.com
DTSTAMP:20190703T032349Z
DTSTART:20190719T210000Z
DTEND:20190721T073000Z
SUMMARY:2 Day Lake Eyre Flying Tour
END:VEVENT
END:VCALENDAR
